BEGIN:VCALENDAR
VERSION:2.0
PRODID:-//Tukios.com/
BEGIN:VEVENT
UID:330f4971-d57a-4df8-a1b7-eddbeb27e9c9@www.nicholsgilmore.com
DTSTAMP:20260422T225043Z
DTSTART:20260425T170000Z
DTEND:20260425T180000Z
SUMMARY:Memorial Service
DESCRIPTION:
URL:https://www.nicholsgilmore.com/obituaries/lois-walley
LOCATION:Canaan Baptist Church 3011 New Castle Avenue  New Castle DE 
	19720
GEO:39.7013368;-75.5526893
END:VEVENT
END:VCALENDAR